BEGIN:VCALENDAR
VERSION:2.0
PRODID:-//Durley Parish Council//Meeting Calendar//EN
CALSCALE:GREGORIAN
METHOD:PUBLISH
BEGIN:VEVENT
UID:70601-20250408@durleyparishcouncil.gov.uk
DTSTAMP:20260422T093701Z
DTSTART;VALUE=DATE:20250408
DTEND;VALUE=DATE:20250409
SUMMARY:Council Meeting &#8211\\; 8 April 2025
DESCRIPTION:Full Council Meeting\nView details: https://durleyparishcouncil.gov.uk/meetings/council-meeting-8-april-2025/
URL:https://durleyparishcouncil.gov.uk/meetings/council-meeting-8-april-2025/
END:VEVENT
END:VCALENDAR
