BEGIN:VCALENDAR
VERSION:2.0
PRODID:-//Durley Parish Council//Meeting Calendar//EN
CALSCALE:GREGORIAN
METHOD:PUBLISH
BEGIN:VEVENT
UID:70605-20250311@durleyparishcouncil.gov.uk
DTSTAMP:20260422T095157Z
DTSTART;VALUE=DATE:20250311
DTEND;VALUE=DATE:20250312
SUMMARY:Council Meeting &#8211\\; 11 March 2025
DESCRIPTION:Full Council Meeting\nView details: https://durleyparishcouncil.gov.uk/meetings/council-meeting-11-march-2025/
URL:https://durleyparishcouncil.gov.uk/meetings/council-meeting-11-march-2025/
END:VEVENT
END:VCALENDAR
